BEGIN:VCALENDAR
VERSION:2.0
PRODID:-//KMZ - ECPv6.15.20//NONSGML v1.0//EN
CALSCALE:GREGORIAN
METHOD:PUBLISH
X-ORIGINAL-URL:https://www.k-m-z.nl
X-WR-CALDESC:Evenementen voor KMZ
REFRESH-INTERVAL;VALUE=DURATION:PT1H
X-Robots-Tag:noindex
X-PUBLISHED-TTL:PT1H
BEGIN:VTIMEZONE
TZID:UTC
BEGIN:STANDARD
TZOFFSETFROM:+0000
TZOFFSETTO:+0000
TZNAME:UTC
DTSTART:20240101T000000
END:STANDARD
END:VTIMEZONE
BEGIN:VEVENT
DTSTART;TZID=UTC:20250510T100000
DTEND;TZID=UTC:20250510T100100
DTSTAMP:20260422T114904
CREATED:20220323T183630Z
LAST-MODIFIED:20250303T201457Z
UID:2956-1746871200-1746871260@www.k-m-z.nl
SUMMARY:VERVALLEN (Contact)Sleuteldag KMZ zaterdag 10 mei 2025
DESCRIPTION:VERVALLEN ACTIVITEIT  \n  \n  \n  \nUitnodiging (Contact)Sleuteldag\, voor leden van KMZ \nZaterdag 10 mei\,\n \nU kunt kosteloos uw auto inspecteren\, zelf poetsen of kleine reparaties uitvoeren\, al dan niet met advies\, of hulp van anderen. \nEr is een hefbrug\, remmenbank en o.a. de mogelijkheid om de lampen af te stellen aanwezig. \n  \nDe laatste jaren wordt er steeds minder gesleuteld\, maar lag de nadruk meer op de onderlinge contacten\, gezellig samen kletsen met een bakkie koffie en een worstenbroodje\, een pilsje\, borrel of frisdrank\, uiteraard gratis voor KMZ-leden! \nZou het misschien kunnen dat we onze oldtimers zo goed onderhouden\, dat er nog nauwelijks onderhoud nodig is?? \nDaarom hebben we de naam een beetje aangepast naar “Contact-Sleuteldag”. \nDe (Contact)Sleuteldag is NIET MEER. \nWij hopen evenals voorgaande jaren\, weer op een grote opkomst? \nHet Bestuur van KMZ
URL:https://www.k-m-z.nl/agenda/contact-sleuteldag-kmz/
ORGANIZER;CN="KMZ":MAILTO:info@k-m-z.nl
END:VEVENT
END:VCALENDAR