BEGIN:VCALENDAR
VERSION:2.0
PRODID:-//KMZ - ECPv6.15.20//NONSGML v1.0//EN
CALSCALE:GREGORIAN
METHOD:PUBLISH
X-ORIGINAL-URL:https://www.k-m-z.nl
X-WR-CALDESC:Evenementen voor KMZ
REFRESH-INTERVAL;VALUE=DURATION:PT1H
X-Robots-Tag:noindex
X-PUBLISHED-TTL:PT1H
BEGIN:VTIMEZONE
TZID:UTC
BEGIN:STANDARD
TZOFFSETFROM:+0000
TZOFFSETTO:+0000
TZNAME:UTC
DTSTART:20230101T000000
END:STANDARD
END:VTIMEZONE
BEGIN:VEVENT
DTSTART;TZID=UTC:20241013T100000
DTEND;TZID=UTC:20241013T170000
DTSTAMP:20260422T223350
CREATED:20240930T164912Z
LAST-MODIFIED:20241007T143330Z
UID:4497-1728813600-1728838800@www.k-m-z.nl
SUMMARY:Museum bezoek Visscher Classique Buren zondag 13 oktober 2024
DESCRIPTION:Uitnodiging museumbezoek Visscher Buren\, zondag 13 oktober 2024. \nKlassiek Mechaniek Zeeland organiseert een excursie op zondag 13 oktober 2024. \nWe gaan naar Visscher Classique in Buren\, zie bijlage.\nVisscher Classique\nSchuilheuvelstraat 1\n4116 GA Buren\nTelefoon: 06 – 53 25 29 28\nzondag open: 10:00–17:00 \n\nHomepage \n\nOpgave uiterlijk zondag 29 september 2024 \nIedereen gaat op eigen gelegenheid naar het Museum. \nKMZ betaalt de entree voor leden ( 15 euro ) ; je mag gerust een vriend of kennis meenemen maar die betaalt zelf de entree. \nWe verwachten jullie om 10.00 uur. \nWe krijgen dan een korte uitleg over het bestaan van het Museum. \nDus graag op tijd komen. \nKoffie of thee met appeltaart kost 7 euro. \nEen lunch kost 12 euro\, kroket extra 2 euro. \nSoep kost 5 euro.  \nDit is allemaal voor eigen rekening. \nDoorgeven via een reactie via een antwoord op deze mail. \nOpgave uiterlijk zondag 29 september 2024 \nWij willen graag weten of je van plan bent te komen en alleen of met partner of kennis. \nOok willen we weten welke consumpties je wenst te gebruiken\, volgens bovenstaande. \nDit vragen we omdat je anders het risico loopt dat er niet voldoende is. \nBijzonderheden\, zoals allergieën\, vermelden.  \nDan zullen we dit navragen bij het museum of dit kan.
URL:https://www.k-m-z.nl/agenda/museum-bezoek-visscher-classique-buren-zondag-13-oktober-2024/
LOCATION:Buren museum Visscher\, Schuilheuvelstraat 1\, Buren\, 4116 GA
ORGANIZER;CN="KMZ":MAILTO:info@k-m-z.nl
END:VEVENT
END:VCALENDAR